BEGIN:VCALENDAR
VERSION:2.0
PRODID:RARE BREEDS TRUST OF AUSTRALIA
CALSCALE:GREGORIAN
BEGIN:VEVENT
DTSTAMP:20200226T122844Z
UID:fdbcb94b-4dbd-44e6-a35f-8f0f37ed08d4
DTSTART:20160521T030000Z
DTEND:20160521T030000Z
DESCRIPTION:Winning photo\n
LOCATION:
SUMMARY:IHBW Facebook photo Comp Winner
URL:http://rarebreedstrust.com.au/public/events/6709-ihbw-facebook-photo-co
 mp-winner
END:VEVENT
END:VCALENDAR
