BEGIN:VCALENDAR
VERSION:2.0
PRODID:RARE BREEDS TRUST OF AUSTRALIA
CALSCALE:GREGORIAN
BEGIN:VEVENT
DTSTAMP:20200226T122812Z
UID:cf482c91-a9de-4ad5-8252-1a9037d64bef
DTSTART:20161113T030000Z
DTEND:20161113T030000Z
DESCRIPTION:Our Annual General Meeting will be held on Sunday 13 November. 
 All members are invited to attend by phone link or at \n\nCollingwood Child
 rens Farm\, Melbourne.\n
LOCATION:Collingwood Childrens Farm and phone link
SUMMARY:Annual General Meeting
URL:http://rarebreedstrust.com.au/public/events/6555-annual-general-meeting
END:VEVENT
END:VCALENDAR
