BEGIN:VCALENDAR
VERSION:2.0
PRODID:RARE BREEDS TRUST OF AUSTRALIA
CALSCALE:GREGORIAN
BEGIN:VEVENT
DTSTAMP:20200226T122738Z
UID:e7a3cdde-e74e-41d4-9d94-6a1598eb81a1
DTSTART:20170416T230000Z
DTEND:20170430T070000Z
DESCRIPTION:Entries accepted17th to 30th April  \n\nThis photo is last year
 s winner. Would you like your photo to be here next year?\n
LOCATION:ABBOTSFORD\, vic
SUMMARY:Facebook Rare Breeds Photo Competition
URL:http://rarebreedstrust.com.au/public/events/10904-facebook-rare-breeds-
 photo-competition
END:VEVENT
END:VCALENDAR
